BEGIN:VCALENDAR
VERSION:2.0
PRODID:-//Triargos GmbH - ECPv6.15.12.2//NONSGML v1.0//EN
CALSCALE:GREGORIAN
METHOD:PUBLISH
X-ORIGINAL-URL:https://triargos.de
X-WR-CALDESC:Veranstaltungen für Triargos GmbH
REFRESH-INTERVAL;VALUE=DURATION:PT1H
X-Robots-Tag:noindex
X-PUBLISHED-TTL:PT1H
BEGIN:VTIMEZONE
TZID:UTC
BEGIN:STANDARD
TZOFFSETFROM:+0000
TZOFFSETTO:+0000
TZNAME:UTC
DTSTART:20200101T000000
END:STANDARD
END:VTIMEZONE
BEGIN:VEVENT
DTSTART;TZID=UTC:20211215T150000
DTEND;TZID=UTC:20211215T160000
DTSTAMP:20260420T105731
CREATED:20210802T050800Z
LAST-MODIFIED:20210802T050800Z
UID:3621-1639580400-1639584000@triargos.de
SUMMARY:Impulsvortrag: Vorblick auf die neue IPHIS-Stundenplanung
DESCRIPTION:Inhalte: Die neue IPHIS-Stundenplanung soll die Funktionen einschlägiger Stundenplan-Software (z.B. aSc) bieten und dabei die Besonderheiten der Waldorf-Stundenpläne\, insb. die Epochenplanung\, berücksichtigen. Zudem soll das Zusammenspiel mit anderen IPHIS-Modulen so optimiert werden\, dass alle Prozessschritte von der Deputatsplanung\, über den Stundenplan bis hin zur Vertretungsplanung und Zeugniserstellung Hand in Hand gehen und der Arbeitsaufwand für die Administratoren so gering wie möglich ist. Zentrum der Stundenplanung ist eine digitale Stecktafel\, welche alle Klassen und Wochentage abbildet. Die angelegten Unterrichte werden als farbige Kärtchen dargestellt. Gruppenteilungen und Stundenlängen werden ebenfalls grafisch unterschieden. \nDer Stundenplan kann mit oder ohne Solver erstellt werden. D.h. die Nutzer*Innen können entscheiden\, ob sie die angelegten Kärtchen selbst auf der digitalen Stecktafel stecken\, oder ob sie Stundenplan-Vorschläge über den Solver berechnen lassen. \nDas neue IPHIS-Stundenplan Modul richtet sich sowohl an Stundenplan-Experten\, als auch an unerfahrene Kolleg*innen\, die ganz neu in das Thema einsteigen \nTermin: 15.12.2021 \nPreis: kostenlos \nUhrzeit: 15.00 Uhr – 16.00 Uhr \nAlle Infos zur Teilnahme erhalten Sie mit der Anmeldebestätigung. \nTechnische Voraussetzungen: \nZur Teilnahme benötigen Sie einen möglichst aktuellen Browser und optimalerweise ein Mikrofon und Lautsprecher an Ihrem Rechner. Falls dies nicht möglich ist\, können Sie sich auch über eine telefonische Audioeinwahl verbinden. Hier empfehlen wir Ihnen ein Headset. \nBei Anmeldung senden wir Ihnen die Einwahldaten zu. \nBitte melden Sie sich 15 Minuten vor Beginn der Veranstaltung ein\, um die Technik zu testen. Falls Probleme bestehen\, helfen wir Ihnen gerne. \nDie Teilnehmeranzahl ist auf 20 Personen beschränkt.  Wir freuen uns auf Ihre Anmeldung! \nhier geht´s zur Anmeldung
URL:https://triargos.de/event/impulsvortrag-neue-iphis-stundenplanung/
END:VEVENT
END:VCALENDAR